BEGIN:VCALENDAR
VERSION:2.0
PRODID:-//Newman Today - ECPv6.15.18//NONSGML v1.0//EN
CALSCALE:GREGORIAN
METHOD:PUBLISH
X-ORIGINAL-URL:https://news.newmanu.edu
X-WR-CALDESC:Events for Newman Today
REFRESH-INTERVAL;VALUE=DURATION:PT1H
X-Robots-Tag:noindex
X-PUBLISHED-TTL:PT1H
BEGIN:VTIMEZONE
TZID:America/Chicago
BEGIN:DAYLIGHT
TZOFFSETFROM:-0600
TZOFFSETTO:-0500
TZNAME:CDT
DTSTART:20250309T080000
END:DAYLIGHT
BEGIN:STANDARD
TZOFFSETFROM:-0500
TZOFFSETTO:-0600
TZNAME:CST
DTSTART:20251102T070000
END:STANDARD
BEGIN:DAYLIGHT
TZOFFSETFROM:-0600
TZOFFSETTO:-0500
TZNAME:CDT
DTSTART:20260308T080000
END:DAYLIGHT
BEGIN:STANDARD
TZOFFSETFROM:-0500
TZOFFSETTO:-0600
TZNAME:CST
DTSTART:20261101T070000
END:STANDARD
BEGIN:DAYLIGHT
TZOFFSETFROM:-0600
TZOFFSETTO:-0500
TZNAME:CDT
DTSTART:20270314T080000
END:DAYLIGHT
BEGIN:STANDARD
TZOFFSETFROM:-0500
TZOFFSETTO:-0600
TZNAME:CST
DTSTART:20271107T070000
END:STANDARD
END:VTIMEZONE
BEGIN:VEVENT
DTSTART;TZID=America/Chicago:20260305T193000
DTEND;TZID=America/Chicago:20260308T183000
DTSTAMP:20260420T200125
CREATED:20250626T183902Z
LAST-MODIFIED:20260305T205741Z
UID:10005166-1772739000-1772994600@news.newmanu.edu
SUMMARY:Sweet Bird of Youth Performance
DESCRIPTION:Come see Newman’s production of Sweet Bird of Youth in the Performance Hall in DeMattias Hall. Thursday – Saturday\, March 5th – 7th\, doors open at 7pm and the show starts at 7:30pm. Sunday March 8th\, doors open at 1:30pm and the show starts at 2pm.
URL:https://news.newmanu.edu/event/sweet-bird-of-youth-performance/
LOCATION:DeMattias Performance Hall\, 3100 McCormick Ave.\, Wichita\, KS\, 67213\, United States
CATEGORIES:Newsletter
ATTACH;FMTTYPE=image/jpeg:https://news.newmanu.edu/wp-content/uploads/2025/06/3-10.jpg
END:VEVENT
BEGIN:VEVENT
DTSTART;TZID=America/Chicago:20260310T183000
DTEND;TZID=America/Chicago:20260310T210000
DTSTAMP:20260420T200125
CREATED:20260213T173422Z
LAST-MODIFIED:20260213T173422Z
UID:10005300-1773167400-1773176400@news.newmanu.edu
SUMMARY:Line Dancing Night
DESCRIPTION:Join Jets for Life for a night of line dancing fun in the Jabara Black Box theatre!!
URL:https://news.newmanu.edu/event/line-dancing-night/
LOCATION:Jabara Theatre – De Mattias Fine Arts Center\, 3100 McCormick\, Wichita\, 67213\, United States
CATEGORIES:Newsletter,Special Events
ATTACH;FMTTYPE=image/jpeg:https://news.newmanu.edu/wp-content/uploads/2023/10/CampusMinistry06-1.jpg
END:VEVENT
BEGIN:VEVENT
DTSTART;TZID=America/Chicago:20260311T173000
DTEND;TZID=America/Chicago:20260311T213000
DTSTAMP:20260420T200125
CREATED:20260306T160535Z
LAST-MODIFIED:20260306T160535Z
UID:10005305-1773250200-1773264600@news.newmanu.edu
SUMMARY:ASA and Campus Ministry Collab
DESCRIPTION:Join Campus Ministry in association with the ASA and learn how to make delicious spring rolls!
URL:https://news.newmanu.edu/event/asa-and-campus-ministry-collab/
LOCATION:Tarcisia Roths ASC Alumni Center\, 3100 E. McCormick\, Wichita\, KS\, 67213\, United States
CATEGORIES:Newsletter,Special Events
ATTACH;FMTTYPE=image/jpeg:https://news.newmanu.edu/wp-content/uploads/2022/08/10.jpg
END:VEVENT
END:VCALENDAR